BEGIN:VCALENDAR
VERSION:2.0
PRODID:-//Department Of Education//96356176-667c-455e-8e91-80e3850a2ebe
BEGIN:VTIMEZONE
TZID:Australia/Sydney
TZURL:http://tzurl.org/zoneinfo-outlook/Australia/Sydney
X-LIC-LOCATION:Australia/Sydney
BEGIN:STANDARD
TZOFFSETFROM:+1100
TZOFFSETTO:+1000
TZNAME:AEST
DTSTART:19700405T030000
RRULE:FREQ=YEARLY;BYMONTH=4;BYDAY=1SU
END:STANDARD
BEGIN:DAYLIGHT
TZOFFSETFROM:+1000
TZOFFSETTO:+1100
TZNAME:AEDT
DTSTART:19701004T020000
RRULE:FREQ=YEARLY;BYMONTH=10;BYDAY=1SU
END:DAYLIGHT
END:VTIMEZONE
CALSCALE:GREGORIAN
X-WR-TIMEZONE:Australia/Sydney
BEGIN:VEVENT
DTSTART;TZID=Australia/Sydney:20200228T143000
DTEND;TZID=Australia/Sydney:20200228T150000
DTSTAMP:20200228T000000Z
UID:17443d9d-b541-40b5-8894-c494d4ab9b54
LOCATION:Table Top PS Library
SUMMARY;LANGUAGE=en-us:Whole School Assembly - Badge Presentation
SEQUENCE:0
DESCRIPTION:Student leaders will receive their leadership badges. There will be no class items this week.
END:VEVENT
TRANSP:TRANSPARENT
END:VCALENDAR
